BEGIN:VCALENDAR
VERSION:2.0
PRODID:-//Plone.org//NONSGML plone.app.event//EN
X-WR-TIMEZONE:US/Pacific
BEGIN:VEVENT
SUMMARY:World Cultures & Travel: Turkish Treasures
DTSTART;TZID=US/Pacific:20260219T190000
DTEND;TZID=US/Pacific:20260219T203000
DTSTAMP:20260421T142115Z
UID:fe22b9cba0594ad99f6c5a5b96ab3f35@saas_stack_varnish:6080
CONTACT:Sherri M Lemhouse\, 5414665454\, library@ci.brownsville.or.us
CREATED:20260108T223918Z
DESCRIPTION:Turkish Treasures
LAST-MODIFIED:20260108T223924Z
LOCATION:Kirk Room
URL:https://www.brownsvillecommunitylibrary.org/news-events/lib-cal/world-
 cultures-travel-turkish-treasures-1
END:VEVENT
BEGIN:VTIMEZONE
TZID:US/Pacific
X-LIC-LOCATION:US/Pacific
BEGIN:STANDARD
DTSTART:20251102T010000
TZNAME:PST
TZOFFSETFROM:-0700
TZOFFSETTO:-0800
END:STANDARD
END:VTIMEZONE
END:VCALENDAR
