BEGIN:VCALENDAR
VERSION:2.0
PRODID:-//Plone.org//NONSGML plone.app.event//EN
X-WR-TIMEZONE:US/Pacific
BEGIN:VEVENT
SUMMARY:Stitchery Group
DTSTART;TZID=US/Pacific:20260429T130000
DTEND;TZID=US/Pacific:20260429T150000
DTSTAMP:20260422T071601Z
UID:427e043ef0464cc7b23041a3dceaeb92@saas_stack_varnish:6080
CONTACT:Sherri M Lemhouse\, 5414665454\, library@ci.brownsville.or.us
CREATED:20260421T204318Z
DESCRIPTION:The Thread Wizards
LAST-MODIFIED:20260421T205522Z
LOCATION:History Room
URL:https://www.brownsvillecommunitylibrary.org/news-events/lib-cal/stitch
 ery-group-1/2026-04-29
END:VEVENT
BEGIN:VTIMEZONE
TZID:US/Pacific
X-LIC-LOCATION:US/Pacific
BEGIN:DAYLIGHT
DTSTART:20260308T030000
TZNAME:PDT
TZOFFSETFROM:-0800
TZOFFSETTO:-0700
END:DAYLIGHT
END:VTIMEZONE
END:VCALENDAR
