BEGIN:VCALENDAR
VERSION:2.0
PRODID:-//Plone.org//NONSGML plone.app.event//EN
X-WR-TIMEZONE:US/Pacific
BEGIN:VEVENT
SUMMARY:Parents and Pals Story Time
DTSTART;TZID=US/Pacific:20170912T101500
DTEND;TZID=US/Pacific:20170912T103000
DTSTAMP:20260424T154224Z
UID:6637e5b602614acaa82143087a1dc08e@saas_stack_varnish:6080
RRULE:FREQ=WEEKLY;UNTIL=20181218T000000;BYDAY=TU
EXDATE;TZID=US/Pacific:20180619T000000
CONTACT:Sherri Lemhouse\, 541.466.5454\, library@ci.brownsville.or.us
CREATED:20170913T195344Z
DESCRIPTION:Parents and Pals Story Time
LAST-MODIFIED:20180606T180001Z
LOCATION:Brownsville Library Childrens Room & Library Park
URL:https://www.brownsvillecommunitylibrary.org/news-events/lib-cal/parent
 s-and-pals-story-time
END:VEVENT
BEGIN:VTIMEZONE
TZID:US/Pacific
X-LIC-LOCATION:US/Pacific
BEGIN:DAYLIGHT
DTSTART:20170312T030000
TZNAME:PDT
TZOFFSETFROM:-0800
TZOFFSETTO:-0700
END:DAYLIGHT
END:VTIMEZONE
END:VCALENDAR
