BEGIN:VCALENDAR
VERSION:2.0
PRODID:-//Plone.org//NONSGML plone.app.event//EN
X-WR-TIMEZONE:US/Pacific
BEGIN:VEVENT
SUMMARY:Library Advisory Board Meeting
DTSTART;TZID=US/Pacific:20260212T163000
DTEND;TZID=US/Pacific:20260212T173000
DTSTAMP:20260421T142623Z
UID:8c93fc3e3c1945d59479f099d4d061a6@saas_stack_varnish:6080
CONTACT:Sherri M Lemhouse\, 5414665454\, library@ci.brownsville.or.us
CREATED:20250425T232354Z
DESCRIPTION:Monthly Meeting of the Library Advisory Board
LAST-MODIFIED:20250502T170701Z
LOCATION:Kirk Room
URL:https://www.brownsvillecommunitylibrary.org/news-events/lib-cal/librar
 y-advisory-board-meeting-15/2026-02-12
END:VEVENT
BEGIN:VTIMEZONE
TZID:US/Pacific
X-LIC-LOCATION:US/Pacific
BEGIN:STANDARD
DTSTART:20251102T010000
TZNAME:PST
TZOFFSETFROM:-0700
TZOFFSETTO:-0800
END:STANDARD
END:VTIMEZONE
END:VCALENDAR
